BEGIN:VCALENDAR
VERSION:2.0
PRODID:-//Espace Libre - ECPv6.10.3//NONSGML v1.0//EN
CALSCALE:GREGORIAN
METHOD:PUBLISH
X-WR-CALNAME:Espace Libre
X-ORIGINAL-URL:https://espacelibre.qc.ca
X-WR-CALDESC:Évènements pour Espace Libre
REFRESH-INTERVAL;VALUE=DURATION:PT1H
X-Robots-Tag:noindex
X-PUBLISHED-TTL:PT1H
BEGIN:VTIMEZONE
TZID:UTC
BEGIN:STANDARD
TZOFFSETFROM:+0000
TZOFFSETTO:+0000
TZNAME:UTC
DTSTART:20260101T000000
END:STANDARD
END:VTIMEZONE
BEGIN:VEVENT
DTSTART;TZID=UTC:20260417T193000
DTEND;TZID=UTC:20260425T220000
DTSTAMP:20260423T113359
CREATED:20250812T173058Z
LAST-MODIFIED:20260408T220530Z
UID:11103-1776454200-1777154400@espacelibre.qc.ca
SUMMARY:Au cœur de la rose
DESCRIPTION:
URL:https://espacelibre.qc.ca/evenement/au-coeur-de-la-rose/
LOCATION:Espace Libre
CATEGORIES:[Saison 25-26],Série Mon Village
ATTACH;FMTTYPE=image/jpeg:https://espacelibre.qc.ca/wp-content/uploads/2025/08/1080x1080-Au-Coeur-de-la-Rose.jpg
END:VEVENT
BEGIN:VEVENT
DTSTART;VALUE=DATE:20260908
DTEND;VALUE=DATE:20260927
DTSTAMP:20260423T113359
CREATED:20260407T160055Z
LAST-MODIFIED:20260420T154903Z
UID:11840-1788825600-1790467199@espacelibre.qc.ca
SUMMARY:Jardin
DESCRIPTION:
URL:https://espacelibre.qc.ca/evenement/jardin/
LOCATION:Espace Libre
CATEGORIES:[Saison 26-27],Série Mythologie
ATTACH;FMTTYPE=image/png:https://espacelibre.qc.ca/wp-content/uploads/2026/04/Jardin_Siteweb.png
END:VEVENT
BEGIN:VEVENT
DTSTART;VALUE=DATE:20261020
DTEND;VALUE=DATE:20261101
DTSTAMP:20260423T113359
CREATED:20260407T160010Z
LAST-MODIFIED:20260421T204153Z
UID:11868-1792454400-1793491199@espacelibre.qc.ca
SUMMARY:Et je deviendrai un homme de mon temps
DESCRIPTION:
URL:https://espacelibre.qc.ca/evenement/et-je-deviendrai-un-homme/
LOCATION:Espace Libre
CATEGORIES:[Saison 26-27],Série Mythologie
ATTACH;FMTTYPE=image/png:https://espacelibre.qc.ca/wp-content/uploads/2026/04/Et-je-deviendrai_Mythologie_Evenement-Site-web.png
END:VEVENT
BEGIN:VEVENT
DTSTART;VALUE=DATE:20261128
DTEND;VALUE=DATE:20261220
DTSTAMP:20260423T113359
CREATED:20260407T160055Z
LAST-MODIFIED:20260407T200937Z
UID:11889-1795824000-1797724799@espacelibre.qc.ca
SUMMARY:Les Dévots
DESCRIPTION:
URL:https://espacelibre.qc.ca/evenement/les-devots/
LOCATION:Espace Libre
CATEGORIES:[Saison 26-27],Série Mythologie
ATTACH;FMTTYPE=image/png:https://espacelibre.qc.ca/wp-content/uploads/2026/04/Les-Devots-redo-insta-carre.png
END:VEVENT
END:VCALENDAR